Workbook

Sheet 行政办公用房
A1: 单位名称 | B1: 行政办公用房 | P1: 使用费（元/月）
B2: 人员情况 | I2: 核算面积 | J2: 办公辅助用房核算面积 | K2: 公共服务用房 | L2: 定额面积 | M2: 主校区办公用房实际面积 | N2: 其他校区办公用房实际面积 | O2: 主校区差额面积
B3: 总数 | C3: 单位领导 | D3: 正处 （正职） | E3: 五级职员 | F3: 副处 （副职） | G3: 六级职员 | H3: 行政人员
A4: 文学院/新闻与传播学院 | B4: =SUM(C4,H4) -> 31 | C4: =SUM(D4,E4,F4,G4) -> 7 | D4: 2 | E4: 0 | F4: 4 | G4: 1 | H4: 24 | I4: =(D4+E4)*18+(F4+G4)*12+H4*9 -> 312 | J4: =B4*3 -> 93 | K4: 47.3 | L4: =I4+J4 -> 405 | M4: 388.48 | N4: 60.3 | O4: =L4-M4 -> 16.52 | P4: =SUMPRODUCT(TEXT(-O4-{0,0.05,0.1,0.2}*L4,"0;\0")*{0,10,10,30}) -> 0
A5: 历史文化与旅游学院 | B5: =SUM(C5,H5) -> 20 | C5: =SUM(D5,E5,F5,G5) -> 7 | D5: 2 | E5: 1 | F5: 4 | G5: 0 | H5: 13 | I5: =(D5+E5)*18+(F5+G5)*12+H5*9 -> 219 | J5: =B5*3 -> 60 | K5: 1757 | L5: =I5+J5 -> 279 | M5: 241.15 | N5: 47.36 | O5: =L5-M5 -> 37.85 | P5: =SUMPRODUCT(TEXT(-O5-{0,0.05,0.1,0.2}*L5,"0;\0")*{0,10,10,30}) -> 0
A6: 马克思主义学院 | B6: =SUM(C6,H6) -> 26 | C6: =SUM(D6,E6,F6,G6) -> 8 | D6: 3 | E6: 1 | F6: 4 | G6: 0 | H6: 18 | I6: =(D6+E6)*18+(F6+G6)*12+H6*9 -> 282 | J6: =B6*3 -> 78 | K6: 445 | L6: =I6+J6 -> 360 | M6: 252.67 | N6: 104.55 | O6: =L6-M6 -> 107.33 | P6: =SUMPRODUCT(TEXT(-O6-{0,0.05,0.1,0.2}*L6,"0;\0")*{0,10,10,30}) -> 0
A7: 法学院 | B7: =SUM(C7,H7) -> 22 | C7: =SUM(D7,E7,F7,G7) -> 5 | D7: 2 | E7: 0 | F7: 3 | G7: 0 | H7: 17 | I7: =(D7+E7)*18+(F7+G7)*12+H7*9 -> 225 | J7: =B7*3 -> 66 | K7: 0 | L7: =I7+J7 -> 291 | M7: 212.7 | N7: 40.45 | O7: =L7-M7 -> 78.3 | P7: =SUMPRODUCT(TEXT(-O7-{0,0.05,0.1,0.2}*L7,"0;\0")*{0,10,10,30}) -> 0
A8: 经济管理学院 | B8: =SUM(C8,H8) -> 32 | C8: =SUM(D8,E8,F8,G8) -> 6 | D8: 2 | E8: 0 | F8: 4 | G8: 0 | H8: 26 | I8: =(D8+E8)*18+(F8+G8)*12+H8*9 -> 318 | J8: =B8*3 -> 96 | K8: 25.82 | L8: =I8+J8 -> 414 | M8: 256.9 | N8: 153.58 | O8: =L8-M8 -> 157.1 | P8: =SUMPRODUCT(TEXT(-O8-{0,0.05,0.1,0.2}*L8,"0;\0")*{0,10,10,30}) -> 0
A9: 教育学部 | B9: =SUM(C9,H9) -> 42 | C9: =SUM(D9,E9,F9,G9) -> 7 | D9: 2 | E9: 0 | F9: 4 | G9: 1 | H9: 35 | I9: =(D9+E9)*18+(F9+G9)*12+H9*9 -> 411 | J9: =B9*3 -> 126 | K9: 342.38 | L9: =I9+J9 -> 537 | M9: 383.72 | N9: 151.75 | O9: =L9-M9 -> 153.28 | P9: =SUMPRODUCT(TEXT(-O9-{0,0.05,0.1,0.2}*L9,"0;\0")*{0,10,10,30}) -> 0
A10: 外国语学院 | B10: =SUM(C10,H10) -> 41 | C10: =SUM(D10,E10,F10,G10) -> 7 | D10: 2 | E10: 0 | F10: 5 | G10: 0 | H10: 34 | I10: =(D10+E10)*18+(F10+G10)*12+H10*9 -> 402 | J10: =B10*3 -> 123 | K10: 3403 | L10: =I10+J10 -> 525 | M10: 256 | N10: 20.2 | O10: =L10-M10 -> 269 | P10: =SUMPRODUCT(TEXT(-O10-{0,0.05,0.1,0.2}*L10,"0;\0")*{0,10,10,30}) -> 0
A11: 美术学院 | B11: =SUM(C11,H11) -> 22 | C11: =SUM(D11,E11,F11,G11) -> 6 | D11: 2 | E11: 0 | F11: 4 | G11: 0 | H11: 16 | I11: =(D11+E11)*18+(F11+G11)*12+H11*9 -> 228 | J11: =B11*3 -> 66 | K11: 29 | L11: =I11+J11 -> 294 | M11: 147.7 | N11: 79.2 | O11: =L11-M11 -> 146.3 | P11: =SUMPRODUCT(TEXT(-O11-{0,0.05,0.1,0.2}*L11,"0;\0")*{0,10,10,30}) -> 0
A12: 音乐学院 | B12: =SUM(C12,H12) -> 26 | C12: =SUM(D12,E12,F12,G12) -> 5 | D12: 1 | E12: 0 | F12: 4 | G12: 0 | H12: 21 | I12: =(D12+E12)*18+(F12+G12)*12+H12*9 -> 255 | J12: =B12*3 -> 78 | K12: 2404 | L12: =I12+J12 -> 333 | M12: 307.6 | N12: 68.5 | O12: =L12-M12 -> 25.4 | P12: =SUMPRODUCT(TEXT(-O12-{0,0.05,0.1,0.2}*L12,"0;\0")*{0,10,10,30}) -> 0
A13: 数学与统计学院 | B13: =SUM(C13,H13) -> 23 | C13: =SUM(D13,E13,F13,G13) -> 6 | D13: 2 | E13: 0 | F13: 4 | G13: 0 | H13: 17 | I13: =(D13+E13)*18+(F13+G13)*12+H13*9 -> 237 | J13: =B13*3 -> 69 | K13: 556 | L13: =I13+J13 -> 306 | M13: 155.4 | N13: 113.2 | O13: =L13-M13 -> 150.6 | P13: =SUMPRODUCT(TEXT(-O13-{0,0.05,0.1,0.2}*L13,"0;\0")*{0,10,10,30}) -> 0
A14: 物理科学与技术学院 | B14: =SUM(C14,H14) -> 32 | C14: =SUM(D14,E14,F14,G14) -> 6 | D14: 2 | E14: 0 | F14: 4 | G14: 0 | H14: 26 | I14: =(D14+E14)*18+(F14+G14)*12+H14*9 -> 318 | J14: =B14*3 -> 96 | K14: 1361.16 | L14: =I14+J14 -> 414 | M14: 312 | N14: 0 | O14: =L14-M14 -> 102 | P14: =SUMPRODUCT(TEXT(-O14-{0,0.05,0.1,0.2}*L14,"0;\0")*{0,10,10,30}) -> 0
A15: 化学与药学学院 | B15: =SUM(C15,H15) -> 49 | C15: =SUM(D15,E15,F15,G15) -> 6 | D15: 2 | E15: 0 | F15: 4 | G15: 0 | H15: 43 | I15: =(D15+E15)*18+(F15+G15)*12+H15*9 -> 471 | J15: =B15*3 -> 147 | K15: 2448.78 | L15: =I15+J15 -> 618 | M15: 269.85 | N15: 0 | O15: =L15-M15 -> 348.15 | P15: =SUMPRODUCT(TEXT(-O15-{0,0.05,0.1,0.2}*L15,"0;\0")*{0,10,10,30}) -> 0
... A25: 政治与公共管理学院 | B25: =SUM(C25,H25) -> 21 | C25: =SUM(D25,E25,F25,G25) -> 6 | D25: 2 | E25: 0 | F25: 4 | G25: 0 | H25: 15 | I25: =(D25+E25)*18+(F25+G25)*12+H25*9 -> 219 | J25: =B25*3 -> 63 | K25: 0 | L25: =I25+J25 -> 282 | M25: 162.2 | N25: 0 | O25: =L25-M25 -> 119.8 | P25: =SUMPRODUCT(TEXT(-O25-{0,0.05,0.1,0.2}*L25,"0;\0")*{0,10,10,30}) -> 0
H26: 小计 | I26: =SUM(I4:I25) -> 6732 | J26: =SUM(J4:J25) -> 2022 | K26: =SUM(K4:K25) -> 26615.29 | L26: =SUM(L4:L25) -> 8754

Sheet 综合用房
A1: 单位名称 | B1: 综合用房 | I1: 面积差额 | J1: 差额比 | K1: 使用费
B2: 会议室 | C2: 工会和党员之家 | D2: 团学工作用房 | F2: 档案资料室 | G2: 定额面积 | H2: 实际面积
D3: 学生数 | E3: 核算面积
A4: 文学院/新闻与传播学院 | B4: 50 | C4: 60 | D4: 2819 | E4: =LOOKUP(D4,{0,1001,1301,1601,1901,2201,2501,2801,3101,3401,3701,4001,4301,4601,4901,5201},{100,110,120,130,140,150,160,170,180,190,200,210,220,230,240,250}) -> 170 | F4: =LOOKUP(D4,{0,1001,1301,1601,1901,2201,2501,2801,3101,3401,3701,4001,4301,4601,4901,5201},{30,35,40,45,50,55,60,65,70,75,80,85,90,95,100,105}) -> 65 | G4: =B4+C4+E4+F4 -> 345 | H4: 281.67 | I4: =G4-H4 -> 63.33 | J4: =I4/G4 -> 0.18356522 | K4: =SUMPRODUCT(TEXT(-I4-{0,0.05,0.1,0.2}*G4,"0;\0")*{0,10,10,30}) -> 0
A5: 历史文化与旅游学院 | B5: 50 | C5: 60 | D5: 1244 | E5: =LOOKUP(D5,{0,1001,1301,1601,1901,2201,2501,2801,3101,3401,3701,4001,4301,4601,4901,5201},{100,110,120,130,140,150,160,170,180,190,200,210,220,230,240,250}) -> 110 | F5: =LOOKUP(D5,{0,1001,1301,1601,1901,2201,2501,2801,3101,3401,3701,4001,4301,4601,4901,5201},{30,35,40,45,50,55,60,65,70,75,80,85,90,95,100,105}) -> 35 | G5: =B5+C5+E5+F5 -> 255 | H5: 208.7 | I5: =G5-H5 -> 46.3 | J5: =I5/G5 -> 0.18156863 | K5: =SUMPRODUCT(TEXT(-I5-{0,0.05,0.1,0.2}*G5,"0;\0")*{0,10,10,30}) -> 0
A6: 马克思主义学院 | B6: 50 | C6: 60 | D6: 974 | E6: =LOOKUP(D6,{0,1001,1301,1601,1901,2201,2501,2801,3101,3401,3701,4001,4301,4601,4901,5201},{100,110,120,130,140,150,160,170,180,190,200,210,220,230,240,250}) -> 100 | F6: =LOOKUP(D6,{0,1001,1301,1601,1901,2201,2501,2801,3101,3401,3701,4001,4301,4601,4901,5201},{30,35,40,45,50,55,60,65,70,75,80,85,90,95,100,105})+50 -> 80 | G6: =B6+C6+E6+F6 -> 290 | H6: 298.67 | I6: =G6-H6 -> -8.67 | J6: =I6/G6 -> -0.029896552 | K6: =SUMPRODUCT(TEXT(-I6-{0,0.05,0.1,0.2}*G6,"0;\0")*{0,10,10,30}) -> 0
A7: 法学院 | B7: 50 | C7: 60 | D7: 1109 | E7: =LOOKUP(D7,{0,1001,1301,1601,1901,2201,2501,2801,3101,3401,3701,4001,4301,4601,4901,5201},{100,110,120,130,140,150,160,170,180,190,200,210,220,230,240,250}) -> 110 | F7: =LOOKUP(D7,{0,1001,1301,1601,1901,2201,2501,2801,3101,3401,3701,4001,4301,4601,4901,5201},{30,35,40,45,50,55,60,65,70,75,80,85,90,95,100,105}) -> 35 | G7: =B7+C7+E7+F7 -> 255 | H7: 261.33 | I7: =G7-H7 -> -6.33 | J7: =I7/G7 -> -0.024823529 | K7: =SUMPRODUCT(TEXT(-I7-{0,0.05,0.1,0.2}*G7,"0;\0")*{0,10,10,30}) -> 0
A8: 经济管理学院 | B8: 50 | C8: 60 | D8: 2443 | E8: =LOOKUP(D8,{0,1001,1301,1601,1901,2201,2501,2801,3101,3401,3701,4001,4301,4601,4901,5201},{100,110,120,130,140,150,160,170,180,190,200,210,220,230,240,250}) -> 150 | F8: =LOOKUP(D8,{0,1001,1301,1601,1901,2201,2501,2801,3101,3401,3701,4001,4301,4601,4901,5201},{30,35,40,45,50,55,60,65,70,75,80,85,90,95,100,105}) -> 55 | G8: =B8+C8+E8+F8 -> 315 | H8: 266 | I8: =G8-H8 -> 49 | J8: =I8/G8 -> 0.15555556 | K8: =SUMPRODUCT(TEXT(-I8-{0,0.05,0.1,0.2}*G8,"0;\0")*{0,10,10,30}) -> 0
A9: 教育学部 | B9: 50 | C9: 60 | D9: 1636 | E9: =LOOKUP(D9,{0,1001,1301,1601,1901,2201,2501,2801,3101,3401,3701,4001,4301,4601,4901,5201},{100,110,120,130,140,150,160,170,180,190,200,210,220,230,240,250}) -> 130 | F9: =LOOKUP(D9,{0,1001,1301,1601,1901,2201,2501,2801,3101,3401,3701,4001,4301,4601,4901,5201},{30,35,40,45,50,55,60,65,70,75,80,85,90,95,100,105})+25+30 -> 100 | G9: =B9+C9+E9+F9 -> 340 | H9: 227.2 | I9: =G9-H9 -> 112.8 | J9: =I9/G9 -> 0.33176471 | K9: =SUMPRODUCT(TEXT(-I9-{0,0.05,0.1,0.2}*G9,"0;\0")*{0,10,10,30}) -> 0
A10: 外国语学院 | B10: 50 | C10: 60 | D10: 2575 | E10: =LOOKUP(D10,{0,1001,1301,1601,1901,2201,2501,2801,3101,3401,3701,4001,4301,4601,4901,5201},{100,110,120,130,140,150,160,170,180,190,200,210,220,230,240,250}) -> 160 | F10: =LOOKUP(D10,{0,1001,1301,1601,1901,2201,2501,2801,3101,3401,3701,4001,4301,4601,4901,5201},{30,35,40,45,50,55,60,65,70,75,80,85,90,95,100,105})+50 -> 110 | G10: =B10+C10+E10+F10 -> 380 | H10: 376.51 | I10: =G10-H10 -> 3.49 | J10: =I10/G10 -> 0.0091842105 | K10: =SUMPRODUCT(TEXT(-I10-{0,0.05,0.1,0.2}*G10,"0;\0")*{0,10,10,30}) -> 0
A11: 美术学院 | B11: 50 | C11: 60 | D11: 1203 | E11: =LOOKUP(D11,{0,1001,1301,1601,1901,2201,2501,2801,3101,3401,3701,4001,4301,4601,4901,5201},{100,110,120,130,140,150,160,170,180,190,200,210,220,230,240,250}) -> 110 | F11: =LOOKUP(D11,{0,1001,1301,1601,1901,2201,2501,2801,3101,3401,3701,4001,4301,4601,4901,5201},{30,35,40,45,50,55,60,65,70,75,80,85,90,95,100,105}) -> 35 | G11: =B11+C11+E11+F11 -> 255 | H11: 174.6 | I11: =G11-H11 -> 80.4 | J11: =I11/G11 -> 0.31529412 | K11: =SUMPRODUCT(TEXT(-I11-{0,0.05,0.1,0.2}*G11,"0;\0")*{0,10,10,30}) -> 0
A12: 音乐学院 | B12: 50 | C12: 60 | D12: 1138 | E12: =LOOKUP(D12,{0,1001,1301,1601,1901,2201,2501,2801,3101,3401,3701,4001,4301,4601,4901,5201},{100,110,120,130,140,150,160,170,180,190,200,210,220,230,240,250}) -> 110 | F12: =LOOKUP(D12,{0,1001,1301,1601,1901,2201,2501,2801,3101,3401,3701,4001,4301,4601,4901,5201},{30,35,40,45,50,55,60,65,70,75,80,85,90,95,100,105}) -> 35 | G12: =B12+C12+E12+F12 -> 255 | H12: 238.75 | I12: =G12-H12 -> 16.25 | J12: =I12/G12 -> 0.06372549 | K12: =SUMPRODUCT(TEXT(-I12-{0,0.05,0.1,0.2}*G12,"0;\0")*{0,10,10,30}) -> 0
A13: 数学与统计学院 | B13: 50 | C13: 60 | D13: 1687 | E13: =LOOKUP(D13,{0,1001,1301,1601,1901,2201,2501,2801,3101,3401,3701,4001,4301,4601,4901,5201},{100,110,120,130,140,150,160,170,180,190,200,210,220,230,240,250}) -> 130 | F13: =LOOKUP(D13,{0,1001,1301,1601,1901,2201,2501,2801,3101,3401,3701,4001,4301,4601,4901,5201},{30,35,40,45,50,55,60,65,70,75,80,85,90,95,100,105})+25 -> 70 | G13: =B13+C13+E13+F13 -> 310 | H13: 294 | I13: =G13-H13 -> 16 | J13: =I13/G13 -> 0.051612903 | K13: =SUMPRODUCT(TEXT(-I13-{0,0.05,0.1,0.2}*G13,"0;\0")*{0,10,10,30}) -> 0
A14: 物理科学与技术学院 | B14: 50 | C14: 60 | D14: 1091 | E14: =LOOKUP(D14,{0,1001,1301,1601,1901,2201,2501,2801,3101,3401,3701,4001,4301,4601,4901,5201},{100,110,120,130,140,150,160,170,180,190,200,210,220,230,240,250}) -> 110 | F14: =LOOKUP(D14,{0,1001,1301,1601,1901,2201,2501,2801,3101,3401,3701,4001,4301,4601,4901,5201},{30,35,40,45,50,55,60,65,70,75,80,85,90,95,100,105})+25 -> 60 | G14: =B14+C14+E14+F14 -> 280 | H14: 260.72 | I14: =G14-H14 -> 19.28 | J14: =I14/G14 -> 0.068857143 | K14: =SUMPRODUCT(TEXT(-I14-{0,0.05,0.1,0.2}*G14,"0;\0")*{0,10,10,30}) -> 0
A15: 化学与药学学院 | B15: 50 | C15: 60 | D15: 1570 | E15: =LOOKUP(D15,{0,1001,1301,1601,1901,2201,2501,2801,3101,3401,3701,4001,4301,4601,4901,5201},{100,110,120,130,140,150,160,170,180,190,200,210,220,230,240,250}) -> 120 | F15: =LOOKUP(D15,{0,1001,1301,1601,1901,2201,2501,2801,3101,3401,3701,4001,4301,4601,4901,5201},{30,35,40,45,50,55,60,65,70,75,80,85,90,95,100,105})+25 -> 65 | G15: =B15+C15+E15+F15 -> 295 | H15: 264.2 | I15: =G15-H15 -> 30.8 | J15: =I15/G15 -> 0.10440678 | K15: =SUMPRODUCT(TEXT(-I15-{0,0.05,0.1,0.2}*G15,"0;\0")*{0,10,10,30}) -> 0
A16: 生命科学学院 | B16: 50 | C16: 60 | D16: 1223 | E16: =LOOKUP(D16,{0,1001,1301,1601,1901,2201,2501,2801,3101,3401,3701,4001,4301,4601,4901,5201},{100,110,120,130,140,150,160,170,180,190,200,210,220,230,240,250}) -> 110 | F16: =LOOKUP(D16,{0,1001,1301,1601,1901,2201,2501,2801,3101,3401,3701,4001,4301,4601,4901,5201},{30,35,40,45,50,55,60,65,70,75,80,85,90,95,100,105}) -> 35 | G16: =B16+C16+E16+F16 -> 255 | H16: 249 | I16: =G16-H16 -> 6 | J16: =I16/G16 -> 0.023529412 | K16: =SUMPRODUCT(TEXT(-I16-{0,0.05,0.1,0.2}*G16,"0;\0")*{0,10,10,30}) -> 0
A17: 环境与资源学院 | B17: 50 | C17: 60 | D17: 1009 | E17: =LOOKUP(D17,{0,1001,1301,1601,1901,2201,2501,2801,3101,3401,3701,4001,4301,4601,4901,5201},{100,110,120,130,140,150,160,170,180,190,200,210,220,230,240,250}) -> 110 | F17: =LOOKUP(D17,{0,1001,1301,1601,1901,2201,2501,2801,3101,3401,3701,4001,4301,4601,4901,5201},{30,35,40,45,50,55,60,65,70,75,80,85,90,95,100,105}) -> 35 | G17: =B17+C17+E17+F17 -> 255 | H17: 244.26 | I17: =G17-H17 -> 10.74 | J17: =I17/G17 -> 0.042117647 | K17: =SUMPRODUCT(TEXT(-I17-{0,0.05,0.1,0.2}*G17,"0;\0")*{0,10,10,30}) -> 0
A18: 计算机科学与信息工程学院 | B18: 50 | C18: 60 | D18: 1425 | E18: =LOOKUP(D18,{0,1001,1301,1601,1901,2201,2501,2801,3101,3401,3701,4001,4301,4601,4901,5201},{100,110,120,130,140,150,160,170,180,190,200,210,220,230,240,250}) -> 120 | F18: =LOOKUP(D18,{0,1001,1301,1601,1901,2201,2501,2801,3101,3401,3701,4001,4301,4601,4901,5201},{30,35,40,45,50,55,60,65,70,75,80,85,90,95,100,105})+25 -> 65 | G18: =B18+C18+E18+F18 -> 295 | H18: 261.02 | I18: =G18-H18 -> 33.98 | J18: =I18/G18 -> 0.11518644 | K18: =SUMPRODUCT(TEXT(-I18-{0,0.05,0.1,0.2}*G18,"0;\0")*{0,10,10,30}) -> 0
A19: 体育与健康学院 | B19: 50 | C19: 60 | D19: 2239 | E19: =LOOKUP(D19,{0,1001,1301,1601,1901,2201,2501,2801,3101,3401,3701,4001,4301,4601,4901,5201},{100,110,120,130,140,150,160,170,180,190,200,210,220,230,240,250}) -> 150 | F19: =LOOKUP(D19,{0,1001,1301,1601,1901,2201,2501,2801,3101,3401,3701,4001,4301,4601,4901,5201},{30,35,40,45,50,55,60,65,70,75,80,85,90,95,100,105})+50 -> 105 | G19: =B19+C19+E19+F19 -> 365 | H19: 211.43 | I19: =G19-H19 -> 153.57 | J19: =I19/G19 -> 0.42073973 | K19: =SUMPRODUCT(TEXT(-I19-{0,0.05,0.1,0.2}*G19,"0;\0")*{0,10,10,30}) -> 0
A20: 电子工程学院 | B20: 50 | C20: 60 | D20: 1593 | E20: =LOOKUP(D20,{0,1001,1301,1601,1901,2201,2501,2801,3101,3401,3701,4001,4301,4601,4901,5201},{100,110,120,130,140,150,160,170,180,190,200,210,220,230,240,250}) -> 120 | F20: =LOOKUP(D20,{0,1001,1301,1601,1901,2201,2501,2801,3101,3401,3701,4001,4301,4601,4901,5201},{30,35,40,45,50,55,60,65,70,75,80,85,90,95,100,105}) -> 40 | G20: =B20+C20+E20+F20 -> 270 | H20: 259.57 | I20: =G20-H20 -> 10.43 | J20: =I20/G20 -> 0.03862963 | K20: =SUMPRODUCT(TEXT(-I20-{0,0.05,0.1,0.2}*G20,"0;\0")*{0,10,10,30}) -> 0
A21: 职业技术师范学院 | B21: 50 | C21: 60 | D21: 3560 | E21: =LOOKUP(D21,{0,1001,1301,1601,1901,2201,2501,2801,3101,3401,3701,4001,4301,4601,4901,5201},{100,110,120,130,140,150,160,170,180,190,200,210,220,230,240,250}) -> 190 | F21: =LOOKUP(D21,{0,1001,1301,1601,1901,2201,2501,2801,3101,3401,3701,4001,4301,4601,4901,5201},{30,35,40,45,50,55,60,65,70,75,80,85,90,95,100,105}) -> 75 | G21: =B21+C21+E21+F21 -> 375 | H21: 391.38 | I21: =G21-H21 -> -16.38 | J21: =I21/G21 -> -0.04368 | K21: =SUMPRODUCT(TEXT(-I21-{0,0.05,0.1,0.2}*G21,"0;\0")*{0,10,10,30}) -> 0
A22: 设计学院 | B22: 50 | C22: 60 | D22: 1831 | E22: =LOOKUP(D22,{0,1001,1301,1601,1901,2201,2501,2801,3101,3401,3701,4001,4301,4601,4901,5201},{100,110,120,130,140,150,160,170,180,190,200,210,220,230,240,250}) -> 130 | F22: =LOOKUP(D22,{0,1001,1301,1601,1901,2201,2501,2801,3101,3401,3701,4001,4301,4601,4901,5201},{30,35,40,45,50,55,60,65,70,75,80,85,90,95,100,105}) -> 45 | G22: =B22+C22+E22+F22 -> 285 | H22: 292 | I22: =G22-H22 -> -7 | J22: =I22/G22 -> -0.024561404 | K22: =SUMPRODUCT(TEXT(-I22-{0,0.05,0.1,0.2}*G22,"0;\0")*{0,10,10,30}) -> 0
A23: 国际文化教育学院 | B23: 50 | C23: 60 | D23: 837 | E23: =LOOKUP(D23,{0,1001,1301,1601,1901,2201,2501,2801,3101,3401,3701,4001,4301,4601,4901,5201},{100,110,120,130,140,150,160,170,180,190,200,210,220,230,240,250}) -> 100 | F23: =LOOKUP(D23,{0,1001,1301,1601,1901,2201,2501,2801,3101,3401,3701,4001,4301,4601,4901,5201},{30,35,40,45,50,55,60,65,70,75,80,85,90,95,100,105}) -> 30 | G23: =B23+C23+E23+F23 -> 240 | H23: 237.51 | I23: =G23-H23 -> 2.49 | J23: =I23/G23 -> 0.010375 | K23: =SUMPRODUCT(TEXT(-I23-{0,0.05,0.1,0.2}*G23,"0;\0")*{0,10,10,30}) -> 0
A24: 科学教育研究所 | B24: 50 | C24: 60 | D24: 46 | E24: =LOOKUP(D24,{0,1001,1301,1601,1901,2201,2501,2801,3101,3401,3701,4001,4301,4601,4901,5201},{100,110,120,130,140,150,160,170,180,190,200,210,220,230,240,250}) -> 100 | F24: =LOOKUP(D24,{0,1001,1301,1601,1901,2201,2501,2801,3101,3401,3701,4001,4301,4601,4901,5201},{30,35,40,45,50,55,60,65,70,75,80,85,90,95,100,105}) -> 30 | G24: =B24+C24+E24+F24 -> 240 | H24: 178 | I24: =G24-H24 -> 62 | J24: =I24/G24 -> 0.25833333 | K24: =SUMPRODUCT(TEXT(-I24-{0,0.05,0.1,0.2}*G24,"0;\0")*{0,10,10,30}) -> 0
A25: 政管学院 | B25: 50 | C25: 60 | D25: 1294 | E25: =LOOKUP(D25,{0,1001,1301,1601,1901,2201,2501,2801,3101,3401,3701,4001,4301,4601,4901,5201},{100,110,120,130,140,150,160,170,180,190,200,210,220,230,240,250}) -> 110 | F25: =LOOKUP(D25,{0,1001,1301,1601,1901,2201,2501,2801,3101,3401,3701,4001,4301,4601,4901,5201},{30,35,40,45,50,55,60,65,70,75,80,85,90,95,100,105}) -> 35 | G25: =B25+C25+E25+F25 -> 255 | H25: 211.01 | I25: =G25-H25 -> 43.99 | J25: =I25/G25 -> 0.1725098 | K25: =SUMPRODUCT(TEXT(-I25-{0,0.05,0.1,0.2}*G25,"0;\0")*{0,10,10,30}) -> 0
E26: 小计 | G26: =SUM(G4:G25) -> 6410 | H26: =SUM(H4:H25) -> 5687.53 | I26: =SUM(I4:I25) -> 722.47

Sheet 科研用房
B2: 科研用房分配统计表
A4: 序号 | B4: 教学科研人员 | C4: 工号 | D4: 带研究生人数 | E4: 带本科毕业论文数 | F4: 使用科研用房情况 | M4: 免费面积（㎡） | N4: 计费面积（㎡） | O4: 使用费（元/月） | P4: 备注
F5: 校区 | G5: 楼名 | H5: 楼层 | I5: 房号 | J5: 房间名称 | K5: 房间面积（㎡） | L5: 个人总面积（㎡）
A6: 文学院/新闻与传播学院 | B6: 胡大雷 | C6: 20100391 | D6: 10 | E6: 0 | F6: 育才 | G6: 第二文科综合楼 | H6: 8 | I6: 801 | J6: 广西特聘专家工作室（1） | K6: 18 | L6: 18 | M6: =15+4*D6/3+4*(E6/2)/3 -> 28.333333 | N6: =L6-M6 -> -10.333333 | O6: =SUMPRODUCT(TEXT(N6-{0,5,15,25,35},"0;\0")*{0,2,3,3,7}) -> 0
A7: 文学院/新闻与传播学院 | B7: 张利群 | C7: 19870034 | D7: 10 | E7: 0 | F7: 育才 | G7: 第二文科综合楼 | H7: 8 | I7: 802 | J7: 广西特聘专家工作室（2） | K7: 17 | L7: 17 | M7: =15+4*D7/3+4*(E7/2)/3 -> 28.333333 | N7: =L7-M7 -> -11.333333 | O7: =SUMPRODUCT(TEXT(N7-{0,5,15,25,35},"0;\0")*{0,2,3,3,7}) -> 0
A8: 文学院/新闻与传播学院 | B8: 黄伟林 | C8: 19840006 | D8: 12 | E8: 8 | F8: 育才 | G8: 第二文科综合楼 | H8: 8 | I8: 803 | J8: 广西特聘专家工作室（3） | K8: 16.77 | L8: 16.77 | M8: =15+4*D8/3+4*(E8/2)/3 -> 36.333333 | N8: =L8-M8 -> -19.563333 | O8: =SUMPRODUCT(TEXT(N8-{0,5,15,25,35},"0;\0")*{0,2,3,3,7}) -> 0
A9: 文学院/新闻与传播学院 | B9: 莫道才 | C9: 19870047 | D9: 10 | E9: 2 | F9: 育才 | G9: 第二文科综合楼 | H9: 8 | I9: 805 | J9: 国家文科（中文）基地班导师工作室 | K9: 16.52 | L9: 16.52 | M9: =15+4*D9/3+4*(E9/2)/3 -> 29.666667 | N9: =L9-M9 -> -13.146667 | O9: =SUMPRODUCT(TEXT(N9-{0,5,15,25,35},"0;\0")*{0,2,3,3,7}) -> 0
A10: 文学院/新闻与传播学院 | B10: 蓝善康 | C10: 20190225 | D10: 0 | E10: 0 | F10: 育才 | G10: 第二文科综合楼 | H10: 8 | I10: 806 | J10: 桂学研究编辑部 | K10: 60 | L10: 12 | M10: =15+4*D10/3+4*(E10/2)/3 -> 15 | N10: =L10-M10 -> -3 | O10: =SUMPRODUCT(TEXT(N10-{0,5,15,25,35},"0;\0")*{0,2,3,3,7}) -> 0
A11: 文学院/新闻与传播学院 | B11: 蒙显鹏 | C11: 20190038 | D11: 0 | E11: 0 | F11: 育才 | G11: 第二文科综合楼 | H11: 8 | I11: 806 | J11: 桂学研究编辑部 | K11: 60 | L11: 12 | M11: =15+4*D11/3+4*(E11/2)/3 -> 15 | N11: =L11-M11 -> -3 | O11: =SUMPRODUCT(TEXT(N11-{0,5,15,25,35},"0;\0")*{0,2,3,3,7}) -> 0
A12: 文学院/新闻与传播学院 | B12: 翁明鹏 | C12: 20200026 | D12: 0 | E12: 0 | F12: 育才 | G12: 第二文科综合楼 | H12: 8 | I12: 806 | J12: 桂学研究编辑部 | K12: 60 | L12: 12 | M12: =15+4*D12/3+4*(E12/2)/3 -> 15 | N12: =L12-M12 -> -3 | O12: =SUMPRODUCT(TEXT(N12-{0,5,15,25,35},"0;\0")*{0,2,3,3,7}) -> 0
A13: 文学院/新闻与传播学院 | B13: 方小凤 | C13: 20200041 | D13: 0 | E13: 0 | F13: 育才 | G13: 第二文科综合楼 | H13: 8 | I13: 806 | J13: 桂学研究编辑部 | K13: 60 | L13: 12 | M13: =15+4*D13/3+4*(E13/2)/3 -> 15 | N13: =L13-M13 -> -3 | O13: =SUMPRODUCT(TEXT(N13-{0,5,15,25,35},"0;\0")*{0,2,3,3,7}) -> 0
A14: 文学院/新闻与传播学院 | B14: 陈勇 | C14: 20200053 | D14: 0 | E14: 0 | F14: 育才 | G14: 第二文科综合楼 | H14: 8 | I14: 806 | J14: 桂学研究编辑部 | K14: 60 | L14: 12 | M14: =15+4*D14/3+4*(E14/2)/3 -> 15 | N14: =L14-M14 -> -3 | O14: =SUMPRODUCT(TEXT(N14-{0,5,15,25,35},"0;\0")*{0,2,3,3,7}) -> 0
A15: 文学院/新闻与传播学院 | B15: 杜海军 | C15: 20020085 | D15: 8 | E15: 4 | F15: 育才 | G15: 第二文科综合楼 | H15: 8 | I15: 807 | J15: 广西优势特色重点学科工作室 | K15: 16.52 | L15: 16.52 | M15: =15+4*D15/3+4*(E15/2)/3 -> 28.333333 | N15: =L15-M15 -> -11.813333 | O15: =SUMPRODUCT(TEXT(N15-{0,5,15,25,35},"0;\0")*{0,2,3,3,7}) -> 0
A16: 文学院/新闻与传播学院 | B16: 王德明 | C16: 19870046 | D16: 9 | E16: 0 | F16: 育才 | G16: 第二文科综合楼 | H16: 8 | I16: 808 | J16: 中国诗学研究所 | K16: 16.72 | L16: 16.72 | M16: =15+4*D16/3+4*(E16/2)/3 -> 27 | N16: =L16-M16 -> -10.28 | O16: =SUMPRODUCT(TEXT(N16-{0,5,15,25,35},"0;\0")*{0,2,3,3,7}) -> 0
A17: 文学院/新闻与传播学院 | B17: 李乃龙 | C17: 20000049 | D17: 8 | E17: 4 | F17: 育才 | G17: 第二文科综合楼 | H17: 8 | I17: 809 | J17: 广西人文社科重点研究基地（八桂文化与文学） | K17: 17 | L17: 9 | M17: =15+4*D17/3+4*(E17/2)/3 -> 28.333333 | N17: =L17-M17 -> -19.333333 | O17: =SUMPRODUCT(TEXT(N17-{0,5,15,25,35},"0;\0")*{0,2,3,3,7}) -> 0
... A20: 文学院/新闻与传播学院 | B20: 刘汉忠 | C20: 20010012 | D20: 9 | E20: 3 | F20: 育才 | G20: 第二文科综合楼 | H20: 8 | I20: 811 | J20: 博士生（后）导师工作室 | K20: 27 | L20: 13 | M20: =15+4*D20/3+4*(E20/2)/3 -> 29 | N20: =L20-M20 -> -16 | O20: =SUMPRODUCT(TEXT(N20-{0,5,15,25,35},"0;\0")*{0,2,3,3,7}) -> 0
A21: 文学院/新闻与传播学院 | B21: 覃德清 | C21: 19890042 | D21: 2 | E21: 0 | F21: 育才 | G21: 第二文科综合楼 | H21: 9 | I21: 903-1 | J21: 壮学研究所 | K21: 34 | L21: 17 | M21: =15+4*D21/3+4*(E21/2)/3 -> 17.666667 | N21: =L21-M21 -> -0.66666667 | O21: =SUMPRODUCT(TEXT(N21-{0,5,15,25,35},"0;\0")*{0,2,3,3,7}) -> 0
A22: 文学院/新闻与传播学院 | B22: 岑学贵 | C22: 20100060 | D22: 17 | E22: 10 | F22: 育才 | G22: 第二文科综合楼 | H22: 9 | I22: 903-1 | J22: 公共文化服务体系研究中心 | K22: 34 | L22: 17 | M22: =15+4*D22/3+4*(E22/2)/3 -> 44.333333 | N22: =L22-M22 -> -27.333333 | O22: =SUMPRODUCT(TEXT(N22-{0,5,15,25,35},"0;\0")*{0,2,3,3,7}) -> 0
A23: 文学院/新闻与传播学院 | B23: 唐子江 | C23: 19970047 | D23: 16 | E23: 10 | F23: 育才 | G23: 第二文科综合楼 | H23: 9 | I23: 903-2 | J23: 语文教育协同创新中心 | K23: 34 | L23: 34 | M23: =15+4*D23/3+4*(E23/2)/3 -> 43 | N23: =L23-M23 -> -9 | O23: =SUMPRODUCT(TEXT(N23-{0,5,15,25,35},"0;\0")*{0,2,3,3,7}) -> 0
A24: 文学院/新闻与传播学院 | B24: 麦永雄 | C24: 19850003 | D24: 9 | E24: 2 | F24: 育才 | G24: 第二文科综合楼 | H24: 9 | I24: 907-1 | J24: 中国语言文学研究所 | K24: 17 | L24: 17 | M24: =15+4*D24/3+4*(E24/2)/3 -> 28.333333 | N24: =L24-M24 -> -11.333333 | O24: =SUMPRODUCT(TEXT(N24-{0,5,15,25,35},"0;\0")*{0,2,3,3,7}) -> 0
A25: 文学院/新闻与传播学院 | B25: 吴大顺 | C25: 20130034 | D25: 11 | E25: 10 | F25: 育才 | G25: 第二文科综合楼 | H25: 9 | I25: 907-2 | J25: 方言研究所 | K25: 18 | L25: 18 | M25: =15+4*D25/3+4*(E25/2)/3 -> 36.333333 | N25: =L25-M25 -> -18.333333 | O25: =SUMPRODUCT(TEXT(N25-{0,5,15,25,35},"0;\0")*{0,2,3,3,7}) -> 0
A26: 文学院/新闻与传播学院 | B26: 韩晖 | C26: 19980040 | D26: 9 | E26: 4 | F26: 雁山 | G26: 起文楼南楼 | H26: 2 | I26: 201 | J26: 国家文科（中文）基地班导师工作室 | K26: 30.55 | L26: 15.55 | M26: =15+4*D26/3+4*(E26/2)/3 -> 29.666667 | N26: =L26-M26 -> -14.116667 | O26: =SUMPRODUCT(TEXT(N26-{0,5,15,25,35},"0;\0")*{0,2,3,3,7}) -> 0
A27: 文学院/新闻与传播学院 | B27: 王朝元 | C27: 19940000 | D27: 3 | E27: 0 | F27: 雁山 | G27: 起文楼南楼 | H27: 2 | I27: 201 | J27: 国家文科（中文）基地班导师工作室 | K27: 30.55 | L27: 15 | M27: =15+4*D27/3+4*(E27/2)/3 -> 19 | N27: =L27-M27 -> -4 | O27: =SUMPRODUCT(TEXT(N27-{0,5,15,25,35},"0;\0")*{0,2,3,3,7}) -> 0
A28: 文学院/新闻与传播学院 | B28: 陈谦 | C28: 20180304 | D28: 0 | E28: 0 | F28: 雁山 | G28: 起文楼南楼 | H28: 3 | I28: 301 | J28: 文献检索中心 | K28: 62.94 | L28: 12.58 | M28: =15+4*D28/3+4*(E28/2)/3 -> 15 | N28: =L28-M28 -> -2.42 | O28: =SUMPRODUCT(TEXT(N28-{0,5,15,25,35},"0;\0")*{0,2,3,3,7}) -> 0
A29: 文学院/新闻与传播学院 | B29: 宗守云 | C29: 20192002 | D29: 0 | E29: 0 | F29: 雁山 | G29: 起文楼南楼 | H29: 3 | I29: 301 | J29: 文献检索中心 | K29: 62.94 | L29: 12.58 | M29: =15+4*D29/3+4*(E29/2)/3 -> 15 | N29: =L29-M29 -> -2.42 | O29: =SUMPRODUCT(TEXT(N29-{0,5,15,25,35},"0;\0")*{0,2,3,3,7}) -> 0
A30: 文学院/新闻与传播学院 | B30: 刘艳 | C30: 20170113 | D30: 0 | E30: 0 | F30: 雁山 | G30: 起文楼南楼 | H30: 3 | I30: 301 | J30: 文献检索中心 | K30: 62.94 | L30: 12.58 | M30: =15+4*D30/3+4*(E30/2)/3 -> 15 | N30: =L30-M30 -> -2.42 | O30: =SUMPRODUCT(TEXT(N30-{0,5,15,25,35},"0;\0")*{0,2,3,3,7}) -> 0
A31: 文学院/新闻与传播学院 | B31: 孙玮 | C31: 20200055 | D31: 0 | E31: 0 | F31: 雁山 | G31: 起文楼南楼 | H31: 3 | I31: 301 | J31: 文献检索中心 | K31: 62.94 | L31: 12.58 | M31: =15+4*D31/3+4*(E31/2)/3 -> 15 | N31: =L31-M31 -> -2.42 | O31: =SUMPRODUCT(TEXT(N31-{0,5,15,25,35},"0;\0")*{0,2,3,3,7}) -> 0
A32: 文学院/新闻与传播学院 | B32: 谢江林 | C32: 20200219 | D32: 0 | E32: 0 | F32: 雁山 | G32: 起文楼南楼 | H32: 3 | I32: 301 | J32: 文献检索中心 | K32: 62.94 | L32: 12.58 | M32: =15+4*D32/3+4*(E32/2)/3 -> 15 | N32: =L32-M32 -> -2.42 | O32: =SUMPRODUCT(TEXT(N32-{0,5,15,25,35},"0;\0")*{0,2,3,3,7}) -> 0
A33: 文学院/新闻与传播学院 | B33: 韦敏 | C33: 19950020 | D33: 0 | E33: 0 | F33: 雁山 | G33: 起文楼南楼 | H33: 3 | I33: 302 | J33: 大学生创新创业中心、语言文字应用培训基地 | K33: 53 | L33: 13.25 | M33: =15+4*D33/3+4*(E33/2)/3 -> 15 | N33: =L33-M33 -> -1.75 | O33: =SUMPRODUCT(TEXT(N33-{0,5,15,25,35},"0;\0")*{0,2,3,3,7}) -> 0
A34: 文学院/新闻与传播学院 | B34: 刘浈 | C34: 20010035 | D34: 0 | E34: 0 | F34: 雁山 | G34: 起文楼南楼 | H34: 3 | I34: 302 | J34: 大学生创新创业中心、语言文字应用培训基地 | K34: 53 | L34: 13.25 | M34: =15+4*D34/3+4*(E34/2)/3 -> 15 | N34: =L34-M34 -> -1.75 | O34: =SUMPRODUCT(TEXT(N34-{0,5,15,25,35},"0;\0")*{0,2,3,3,7}) -> 0
A35: 文学院/新闻与传播学院 | B35: 陈小燕 | C35: 19900008 | D35: 11 | E35: 2 | F35: 雁山 | G35: 起文楼南楼 | H35: 3 | I35: 302 | J35: 大学生创新创业中心、语言文字应用培训基地 | K35: 53 | L35: 19.38 | M35: 23.2 | N35: -5 | O35: =SUMPRODUCT(TEXT(N35-{0,5,15,25,35},"0;\0")*{0,2,3,3,7}) -> 0
F36: 雁山 | G36: 起文楼南楼 | H36: 4 | I36: 402 | J36: 汉语言文字学教研室 | K36: 49
A37: 文学院/新闻与传播学院 | B37: 朱剑飞 | C37: 20200003 | D37: 0 | E37: 0 | F37: 雁山 | G37: 起文楼南楼 | H37: 3 | I37: 302 | J37: 大学生创新创业中心、语言文字应用培训基地 | K37: 53 | L37: 13.25 | M37: 23.2 | N37: -5 | O37: =SUMPRODUCT(TEXT(N37-{0,5,15,25,35},"0;\0")*{0,2,3,3,7}) -> 0
A38: 文学院/新闻与传播学院 | B38: 刘世文 | C38: 20150059 | D38: 2 | E38: 3 | F38: 雁山 | G38: 起文楼南楼 | H38: 3 | I38: 303 | J38: 《东方丛刊》编辑部 | K38: 27 | L38: 13.5 | M38: 19.67 | N38: -14.67 | O38: =SUMPRODUCT(TEXT(N38-{0,5,15,25,35},"0;\0")*{0,2,3,3,7}) -> 0
A39: 文学院/新闻与传播学院 | B39: 唐迎欣 | C39: 20020050 | D39: 7 | E39: 2 | F39: 雁山 | G39: 起文楼南楼 | H39: 3 | I39: 303 | J39: 《东方丛刊》编辑部 | K39: 27 | L39: 13.5 | M39: 25.67 | N39: -20.67 | O39: =SUMPRODUCT(TEXT(N39-{0,5,15,25,35},"0;\0")*{0,2,3,3,7}) -> 0
A40: 文学院/新闻与传播学院 | B40: 陈广林 | C40: 19910005 | D40: 0 | E40: 6 | F40: 雁山 | G40: 起文楼南楼 | H40: 3 | I40: 304 | J40: 写作学教研室 | K40: 25.8 | L40: 6.45 | M40: =15+4*D40/3+4*(E40/2)/3 -> 19 | N40: =L40-M40 -> -12.55 | O40: =SUMPRODUCT(TEXT(N40-{0,5,15,25,35},"0;\0")*{0,2,3,3,7}) -> 0
A41: 文学院/新闻与传播学院 | B41: 冯强 | C41: 20130047 | D41: 7 | E41: 6 | F41: 雁山 | G41: 起文楼南楼 | H41: 3 | I41: 304 | J41: 写作学教研室 | K41: 25.8 | L41: 6.45 | M41: =15+4*D41/3+4*(E41/2)/3 -> 28.333333 | N41: =L41-M41 -> -21.883333 | O41: =SUMPRODUCT(TEXT(N41-{0,5,15,25,35},"0;\0")*{0,2,3,3,7}) -> 0
A42: 文学院/新闻与传播学院 | B42: 丁来先 | C42: 20010061 | D42: 9 | E42: 5 | F42: 雁山 | G42: 起文楼南楼 | H42: 3 | I42: 304 | J42: 写作学教研室 | K42: 25.8 | L42: 6.45 | M42: =15+4*D42/3+4*(E42/2)/3 -> 30.333333 | N42: =L42-M42 -> -23.883333 | O42: =SUMPRODUCT(TEXT(N42-{0,5,15,25,35},"0;\0")*{0,2,3,3,7}) -> 0
A43: 文学院/新闻与传播学院 | B43: 鹿义霞 | C43: 20150032 | D43: 0 | E43: 6 | F43: 雁山 | G43: 起文楼南楼 | H43: 3 | I43: 304 | J43: 写作学教研室 | K43: 25.8 | L43: 6.45 | M43: =15+4*D43/3+4*(E43/2)/3 -> 19 | N43: =L43-M43 -> -12.55 | O43: =SUMPRODUCT(TEXT(N43-{0,5,15,25,35},"0;\0")*{0,2,3,3,7}) -> 0
A44: 文学院/新闻与传播学院 | B44: 蒋述卓 | C44: 20170260 | D44: 0 | E44: 0 | F44: 雁山 | G44: 起文楼南楼 | H44: 3 | I44: 306 | J44: 特聘专家工作坊 | K44: 25.72 | L44: 12.86 | M44: =15+4*D44/3+4*(E44/2)/3 -> 15 | N44: =L44-M44 -> -2.14 | O44: =SUMPRODUCT(TEXT(N44-{0,5,15,25,35},"0;\0")*{0,2,3,3,7}) -> 0
A45: 文学院/新闻与传播学院 | B45: 姚喜双 | C45: 20170301 | D45: 0 | E45: 0 | F45: 雁山 | G45: 起文楼南楼 | H45: 3 | I45: 306 | J45: 特聘专家工作坊 | K45: 25.72 | L45: 12.86 | M45: =15+4*D45/3+4*(E45/2)/3 -> 15 | N45: =L45-M45 -> -2.14 | O45: =SUMPRODUCT(TEXT(N45-{0,5,15,25,35},"0;\0")*{0,2,3,3,7}) -> 0
A46: 文学院/新闻与传播学院 | B46: 潘盼 | C46: 20130093 | D46: 1 | E46: =VLOOKUP(B46,[1]毕业论文工作量统计表!$B$5:$C$161,2,0) -> 11 | F46: 雁山 | G46: 起文楼南楼 | H46: 3 | I46: 306-1 | J46: 桂学研究院 | K46: 36.82 | L46: 12.74 | M46: =15+4*D46/3+4*(E46/2)/3 -> 23.666667 | N46: =L46-M46 -> -10.926667 | O46: =SUMPRODUCT(TEXT(N46-{0,5,15,25,35},"0;\0")*{0,2,3,3,7}) -> 0
F47: 育才 | G47: 职师楼 | H47: 1 | I47: 101 | J47: 学前与秘书教育教研室 | K47: 24.8 | P47: 职业技术师范学院用房
A48: 文学院/新闻与传播学院 | B48: 张建强 | C48: 20100101 | D48: 1 | E48: =VLOOKUP(B48,[1]毕业论文工作量统计表!$B$5:$C$161,2,0) -> 11 | F48: 雁山 | G48: 起文楼南楼 | H48: 3 | I48: 306-1 | J48: 桂学研究院 | K48: 36.82 | L48: 12.74 | M48: =15+4*D48/3+4*(E48/2)/3 -> 23.666667 | N48: =L48-M48 -> -10.926667 | O48: =SUMPRODUCT(TEXT(N48-{0,5,15,25,35},"0;\0")*{0,2,3,3,7}) -> 0
F49: 育才 | G49: 职师楼 | H49: 1 | I49: 101 | J49: 学前与秘书教育教研室 | K49: 24.8 | P49: 职业技术师范学院用房
A50: 文学院/新闻与传播学院 | B50: 张兴华 | C50: 20100081 | D50: 1 | E50: =VLOOKUP(B50,[1]毕业论文工作量统计表!$B$5:$C$161,2,0) -> 11 | F50: 育才 | G50: 职师楼 | H50: 1 | I50: 101 | J50: 学前与秘书教育教研室 | K50: 24.8 | L50: 12.74 | M50: =15+6*D50/3+6*(E50/2)/3 -> 28 | N50: =L50-M50 -> -15.26 | O50: =SUMPRODUCT(TEXT(N50-{0,5,15,25,35},"0;\0")*{0,2,3,3,7}) -> 0 | P50: 职业技术师范学院用房
F51: 雁山 | G51: 起文楼南楼 | H51: 3 | I51: 306-1 | J51: 桂学研究院 | K51: 36.82
A52: 文学院/新闻与传播学院 | B52: 王淑萍 | C52: 20200215 | D52: 0 | E52: 0 | F52: 雁山 | G52: 起文楼南楼 | H52: 3 | I52: 306-1 | J52: 桂学研究院 | K52: 36.86 | L52: 9.2 | M52: =15+4*D52/3+4*(E52/2)/3 -> 15 | N52: =L52-M52 -> -5.8 | O52: =SUMPRODUCT(TEXT(N52-{0,5,15,25,35},"0;\0")*{0,2,3,3,7}) -> 0
A53: 文学院/新闻与传播学院 | B53: 莫其逊 | C53: 19870031 | D53: 20 | E53: 3 | F53: 雁山 | G53: 起文楼南楼 | H53: 4 | I53: 401 | J53: 文艺学教研室 | K53: 53.77 | L53: 6.72 | M53: =15+4*D53/3+4*(E53/2)/3 -> 43.666667 | N53: =L53-M53 -> -36.946667 | O53: =SUMPRODUCT(TEXT(N53-{0,5,15,25,35},"0;\0")*{0,2,3,3,7}) -> 0
A54: 文学院/新闻与传播学院 | B54: 陈雪军 | C54: 20020052 | D54: 4 | E54: 3 | F54: 雁山 | G54: 起文楼南楼 | H54: 4 | I54: 401 | J54: 文艺学教研室 | K54: 53.77 | L54: 6.72 | M54: =15+4*D54/3+4*(E54/2)/3 -> 22.333333 | N54: =L54-M54 -> -15.613333 | O54: =SUMPRODUCT(TEXT(N54-{0,5,15,25,35},"0;\0")*{0,2,3,3,7}) -> 0
A55: 文学院/新闻与传播学院 | B55: 罗崇宏 | C55: 20150090 | D55: 0 | E55: 2 | F55: 雁山 | G55: 起文楼南楼 | H55: 4 | I55: 401 | J55: 文艺学教研室 | K55: 53.77 | L55: 6.72 | M55: =15+4*D55/3+4*(E55/2)/3 -> 16.333333 | N55: =L55-M55 -> -9.6133333 | O55: =SUMPRODUCT(TEXT(N55-{0,5,15,25,35},"0;\0")*{0,2,3,3,7}) -> 0
A56: 文学院/新闻与传播学院 | B56: 薛霜雨 | C56: 20170069 | D56: 0 | E56: 3 | F56: 雁山 | G56: 起文楼南楼 | H56: 4 | I56: 401 | J56: 文艺学教研室 | K56: 53.77 | L56: 6.72 | M56: =15+4*D56/3+4*(E56/2)/3 -> 17 | N56: =L56-M56 -> -10.28 | O56: =SUMPRODUCT(TEXT(N56-{0,5,15,25,35},"0;\0")*{0,2,3,3,7}) -> 0
A57: 文学院/新闻与传播学院 | B57: 原百玲 | C57: 20170084 | D57: 0 | E57: 0 | F57: 雁山 | G57: 起文楼南楼 | H57: 4 | I57: 401 | J57: 文艺学教研室 | K57: 53.77 | L57: 6.72 | M57: =15+4*D57/3+4*(E57/2)/3 -> 15 | N57: =L57-M57 -> -8.28 | O57: =SUMPRODUCT(TEXT(N57-{0,5,15,25,35},"0;\0")*{0,2,3,3,7}) -> 0
A58: 文学院/新闻与传播学院 | B58: 杨兴玉 | C58: 20180202 | D58: 4 | E58: 2 | F58: 雁山 | G58: 起文楼南楼 | H58: 4 | I58: 401 | J58: 文艺学教研室 | K58: 53.77 | L58: 6.72 | M58: =15+4*D58/3+4*(E58/2)/3 -> 21.666667 | N58: =L58-M58 -> -14.946667 | O58: =SUMPRODUCT(TEXT(N58-{0,5,15,25,35},"0;\0")*{0,2,3,3,7}) -> 0
A59: 文学院/新闻与传播学院 | B59: 张海燕 | C59: 20190001 | D59: 1 | E59: 3 | F59: 雁山 | G59: 起文楼南楼 | H59: 4 | I59: 401 | J59: 文艺学教研室 | K59: 53.77 | L59: 6.72 | M59: =15+4*D59/3+4*(E59/2)/3 -> 18.333333 | N59: =L59-M59 -> -11.613333 | O59: =SUMPRODUCT(TEXT(N59-{0,5,15,25,35},"0;\0")*{0,2,3,3,7}) -> 0
A60: 文学院/新闻与传播学院 | B60: 张玉明 | C60: 20190048 | D60: 0 | E60: 2 | F60: 雁山 | G60: 起文楼南楼 | H60: 4 | I60: 401 | J60: 文艺学教研室 | K60: 53.77 | L60: 6.72 | M60: =15+4*D60/3+4*(E60/2)/3 -> 16.333333 | N60: =L60-M60 -> -9.6133333 | O60: =SUMPRODUCT(TEXT(N60-{0,5,15,25,35},"0;\0")*{0,2,3,3,7}) -> 0
A61: 文学院/新闻与传播学院 | B61: 崔金涛 | C61: 20120003 | D61: 12 | E61: 2 | F61: 雁山 | G61: 起文楼南楼 | H61: 4 | I61: 402 | J61: 汉语言文字学教研室 | K61: 49 | L61: 6.13 | M61: =15+4*D61/3+4*(E61/2)/3 -> 32.333333 | N61: =L61-M61 -> -26.203333 | O61: =SUMPRODUCT(TEXT(N61-{0,5,15,25,35},"0;\0")*{0,2,3,3,7}) -> 0
A62: 文学院/新闻与传播学院 | B62: 樊中元 | C62: 19950032 | D62: 20 | E62: 1 | F62: 雁山 | G62: 起文楼南楼 | H62: 4 | I62: 402 | J62: 汉语言文字学教研室 | K62: 49 | L62: 6.13 | M62: =15+4*D62/3+4*(E62/2)/3 -> 42.333333 | N62: =L62-M62 -> -36.203333 | O62: =SUMPRODUCT(TEXT(N62-{0,5,15,25,35},"0;\0")*{0,2,3,3,7}) -> 0
A63: 文学院/新闻与传播学院 | B63: 袁卫华 | C63: 20120002 | D63: 10 | E63: 2 | F63: 雁山 | G63: 起文楼南楼 | H63: 4 | I63: 402 | J63: 汉语言文字学教研室 | K63: 49 | L63: 6.13 | M63: =15+4*D63/3+4*(E63/2)/3 -> 29.666667 | N63: =L63-M63 -> -23.536667 | O63: =SUMPRODUCT(TEXT(N63-{0,5,15,25,35},"0;\0")*{0,2,3,3,7}) -> 0
A64: 文学院/新闻与传播学院 | B64: 白云 | C64: 19990020 | D64: 8 | E64: 1 | F64: 雁山 | G64: 起文楼南楼 | H64: 4 | I64: 402 | J64: 汉语言文字学教研室 | K64: 49 | L64: 6.13 | M64: =15+4*D64/3+4*(E64/2)/3 -> 26.333333 | N64: =L64-M64 -> -20.203333 | O64: =SUMPRODUCT(TEXT(N64-{0,5,15,25,35},"0;\0")*{0,2,3,3,7}) -> 0
... A121: 文学院/新闻与传播学院 | B121: 冯智明 | C121: 20100097 | D121: 8 | E121: 2 | F121: 雁山 | G121: 起文楼南楼 | H121: 4 | I121: 410 | J121: 民间文学与民族文化教研室 | K121: 25.84 | L121: 5.16 | M121: =15+4*D121/3+4*(E121/2)/3 -> 27 | N121: =L121-M121 -> -21.84 | O121: =SUMPRODUCT(TEXT(N121-{0,5,15,25,35},"0;\0")*{0,2,3,3,7}) -> 0
A122: 历史文化与旅游学院 | B122: 陈国保 | C122: 20110117 | D122: 3 | E122: 4 | F122: 王城 | G122: 第二办公楼 | H122: 2 | I122: 202、203 | J122: 民族文化教研室 | K122: 24.8 | L122: 3.5 | M122: =15+4*D122/3+4*(E122/2)/3 -> 21.666667 | N122: =L122+L123-M122 -> -3.3666667 | O122: =SUMPRODUCT(TEXT(N122-{0,5,15,25,35},"0;\0")*{0,2,3,3,7}) -> 0
A123: 历史文化与旅游学院 | G123: 教二楼 | H123: 2 | I123: 202、205 | J123: 东盟中心 | K123: 147.58 | L123: 14.8
A124: 历史文化与旅游学院 | B124: 陈洪波 | C124: 20080013 | D124: 11 | E124: 5 | F124: 王城 | G124: 第二办公楼 | H124: 2 | I124: 202、203 | J124: 民族文化教研室 | K124: 24.8 | L124: 3.5 | M124: =15+4*D124/3+4*(E124/2)/3 -> 33 | N124: =L124+L125-M124 -> -14.7 | O124: =SUMPRODUCT(TEXT(N124-{0,5,15,25,35},"0;\0")*{0,2,3,3,7}) -> 0
A125: 历史文化与旅游学院 | G125: 教二楼 | H125: 2 | I125: 202、205 | J125: 东盟中心 | K125: 147.58 | L125: 14.8
A126: 历史文化与旅游学院 | B126: 陈志刚 | C126: 20140009 | D126: 11 | E126: 7 | F126: 王城 | G126: 第二办公楼 | H126: 2 | I126: 208 | J126: 教学法教研室 | K126: 9.3 | L126: 3.1 | M126: =15+4*D126/3+4*(E126/2)/3 -> 34.333333 | N126: =L126-M126 -> -31.233333 | O126: =SUMPRODUCT(TEXT(N126-{0,5,15,25,35},"0;\0")*{0,2,3,3,7}) -> 0
A127: 历史文化与旅游学院 | B127: 邓永飞 | C127: 20060038 | D127: 0 | E127: 6 | F127: 王城 | G127: 第一办公楼、第二办公楼 | H127: 2 | I127: 108、201、204 | J127: 教授工作室、古代史教研室 | K127: 40.03 | L127: 10.32 | M127: =15+4*D127/3+4*(E127/2)/3 -> 19 | N127: =L127-M127 -> -8.68 | O127: =SUMPRODUCT(TEXT(N127-{0,5,15,25,35},"0;\0")*{0,2,3,3,7}) -> 0
A128: 历史文化与旅游学院 | B128: 董晓佳 | C128: 20120011 | D128: 1 | E128: 2 | F128: 王城 | G128: 第二办公楼 | H128: 2 | I128: 209、210 | J128: 世界史 | K128: 42.2 | L128: 7 | M128: =15+4*D128/3+4*(E128/2)/3 -> 17.666667 | N128: =L128-M128 -> -10.666667 | O128: =SUMPRODUCT(TEXT(N128-{0,5,15,25,35},"0;\0")*{0,2,3,3,7}) -> 0
A129: 历史文化与旅游学院 | B129: 范丽萍 | C129: 19860002 | D129: 3 | E129: 2 | F129: 王城 | G129: 第一办公楼、第二办公楼 | H129: 2 | I129: 201、209、210 | J129: 教授工作室、世界史 | K129: 88.27 | L129: 11.18 | M129: =15+4*D129/3+4*(E129/2)/3 -> 20.333333 | N129: =L129+L130-M129 -> 5.6466667 | O129: =SUMPRODUCT(TEXT(N129-{0,5,15,25,35},"0;\0")*{0,2,3,3,7}) -> 2
A130: 历史文化与旅游学院 | G130: 教二楼 | H130: 2 | I130: 202、205 | J130: 东盟中心 | K130: 147.58 | L130: 14.8
A131: 历史文化与旅游学院 | B131: 刘玉 | C131: 19940006 | D131: 0 | E131: 3 | F131: 王城 | G131: 第二办公楼 | H131: 2 | I131: 108、201、204 | J131: 王城培训中心、古代史教研室 | K131: 61.14 | L131: 14.98 | M131: =15+4*D131/3+4*(E131/2)/3 -> 17 | N131: =L131-M131 -> -2.02 | O131: =SUMPRODUCT(TEXT(N131-{0,5,15,25,35},"0;\0")*{0,2,3,3,7}) -> 0
A132: 历史文化与旅游学院 | B132: 何海龙 | C132: 19980036 | D132: 1 | E132: 5 | F132: 王城 | G132: 第二办公楼 | H132: 2 | I132: 201、204 | J132: 古代史教研室 | K132: 25.8 | L132: 3.2 | M132: =15+4*D132/3+4*(E132/2)/3 -> 19.666667 | N132: =L132-M132 -> -16.466667 | O132: =SUMPRODUCT(TEXT(N132-{0,5,15,25,35},"0;\0")*{0,2,3,3,7}) -> 0
A133: 历史文化与旅游学院 | B133: 黄松 | C133: 20030049 | D133: 7 | E133: 2 | F133: 王城 | G133: 第一办公楼、第二办公楼 | H133: 1 | I133: 201、106、108 | J133: 教授工作室、景区规划与管理 | K133: 85.07 | L133: 14.18 | M133: =15+4*D133/3+4*(E133/2)/3 -> 25.666667 | N133: =L133-M133 -> -11.486667 | O133: =SUMPRODUCT(TEXT(N133-{0,5,15,25,35},"0;\0")*{0,2,3,3,7}) -> 0
A134: 历史文化与旅游学院 | B134: 黄振南 | C134: 20020096 | D134: 1 | E134: 2 | F134: 王城 | G134: 第二办公楼 | H134: 2 | I134: 206、207 | J134: 近现代史教研室 | K134: 24.8 | L134: 6.2 | M134: =15+4*D134/3+4*(E134/2)/3 -> 17.666667 | N134: =L134+L135-M134 -> 3.3333333 | O134: =SUMPRODUCT(TEXT(N134-{0,5,15,25,35},"0;\0")*{0,2,3,3,7}) -> 0
A135: 历史文化与旅游学院 | G135: 教二楼 | H135: 2 | I135: 202、205 | J135: 东盟中心 | K135: 147.58 | L135: 14.8
A136: 历史文化与旅游学院 | B136: 江田祥 | C136: 20070026 | D136: 1 | E136: 5 | F136: 王城 | G136: 第二办公楼 | H136: 2 | I136: 202、203 | J136: 民族文化教研室 | K136: 24.8 | L136: 3.5 | M136: =15+4*D136/3+4*(E136/2)/3 -> 19.666667 | N136: =L136+L137-M136 -> -5.7666667 | O136: =SUMPRODUCT(TEXT(N136-{0,5,15,25,35},"0;\0")*{0,2,3,3,7}) -> 0
A137: 历史文化与旅游学院 | G137: 教二楼 | H137: 2 | I137: 201、204 | J137: 文管基地 | K137: 124.33 | L137: 10.4
A138: 历史文化与旅游学院 | B138: 蒋政权 | C138: 20050048 | D138: 4 | E138: 3 | F138: 王城 | G138: 第二办公楼 | H138: 1 | I138: 106、108 | J138: 王城培训中心、景区规划与管理 | K138: 46.43 | L138: 18.28 | M138: =15+4*D138/3+4*(E138/2)/3 -> 22.333333 | N138: =L138-M138 -> -4.0533333 | O138: =SUMPRODUCT(TEXT(N138-{0,5,15,25,35},"0;\0")*{0,2,3,3,7}) -> 0
A139: 历史文化与旅游学院 | B139: 蓝武 | C139: 19950023 | D139: 1 | E139: 4 | F139: 王城 | G139: 第二办公楼 | H139: 2 | I139: 201、204 | J139: 古代史教研室 | K139: 25.8 | L139: 3.2 | M139: =15+4*D139/3+4*(E139/2)/3 -> 19 | N139: =L139-M139 -> -15.8 | O139: =SUMPRODUCT(TEXT(N139-{0,5,15,25,35},"0;\0")*{0,2,3,3,7}) -> 0
A140: 历史文化与旅游学院 | B140: 惠慧 | C140: 20200044 | D140: 0 | E140: 0 | F140: 王城 | G140: 第二办公楼 | H140: 2 | I140: 206、207 | J140: 近现代史教研室 | K140: 24.8 | L140: 6.2 | M140: =15+4*D140/3+4*(E140/2)/3 -> 15 | N140: =L140-M140 -> -8.8 | O140: =SUMPRODUCT(TEXT(N140-{0,5,15,25,35},"0;\0")*{0,2,3,3,7}) -> 0
A141: 历史文化与旅游学院 | B141: 陈伍香 | C141: 20100301 | D141: 0 | E141: 2 | F141: 王城 | G141: 第二办公楼 | H141: 1 | I141: 101、105 | J141: 景区规划与管理教研室 | K141: 22 | L141: 2.75 | M141: =15+4*D141/3+4*(E141/2)/3 -> 16.333333 | N141: =L141+L142-M141 -> -3.1833333 | O141: =SUMPRODUCT(TEXT(N141-{0,5,15,25,35},"0;\0")*{0,2,3,3,7}) -> 0
A142: 历史文化与旅游学院 | G142: 教二楼 | H142: 2 | I142: 201、204 | J142: 文管基地 | K142: 124.33 | L142: 10.4
A143: 历史文化与旅游学院 | B143: 李天雪 | C143: 20070027 | D143: 0 | E143: 4 | F143: 王城 | G143: 第二办公楼 | H143: 2 | I143: 202、203 | J143: 民族文化教研室 | K143: 24.8 | L143: 3.5 | M143: =15+4*D143/3+4*(E143/2)/3 -> 17.666667 | N143: =L143+L144-M143 -> -3.7666667 | O143: =SUMPRODUCT(TEXT(N143-{0,5,15,25,35},"0;\0")*{0,2,3,3,7}) -> 0
A144: 历史文化与旅游学院 | G144: 教二楼 | H144: 2 | I144: 201、204 | J144: 文管基地 | K144: 124.33 | L144: 10.4
A145: 历史文化与旅游学院 | B145: 廖勤 | C145: 19940056 | D145: 0 | E145: 1 | F145: 王城 | G145: 第二办公楼 | H145: 1 | I145: 101、105 | J145: 景区规划与管理教研室 | K145: 22 | L145: 2.75 | M145: =15+4*D145/3+4*(E145/2)/3 -> 15.666667 | N145: =L145+L146-M145 -> -2.5166667 | O145: =SUMPRODUCT(TEXT(N145-{0,5,15,25,35},"0;\0")*{0,2,3,3,7}) -> 0
A146: 历史文化与旅游学院 | G146: 教二楼 | H146: 2 | I146: 201、204 | J146: 文管基地 | K146: 124.33 | L146: 10.4
A147: 历史文化与旅游学院 | B147: 廖国一 | C147: 19880027 | D147: 10 | E147: 6 | F147: 王城 | G147: 第二办公楼 | H147: 2 | I147: 202、203 | J147: 民族文化教研室 | K147: 70.87 | L147: 13.88 | M147: =15+4*D147/3+4*(E147/2)/3 -> 32.333333 | N147: =L147+L148-M147 -> -3.6533333 | O147: =SUMPRODUCT(TEXT(N147-{0,5,15,25,35},"0;\0")*{0,2,3,3,7}) -> 0
A148: 历史文化与旅游学院 | G148: 教二楼 | I148: 202、205 | J148: 东盟中心 | K148: 147.58 | L148: 14.8
A149: 历史文化与旅游学院 | B149: 廖文芳 | C149: 20060039 | D149: 6 | E149: 3 | F149: 王城 | G149: 第一办公楼、第二办公楼 | H149: 1 | I149: 106、108 | J149: 教授工作室、景区规划与管理 | K149: 39 | L149: 11.81 | M149: =15+4*D149/3+4*(E149/2)/3 -> 25 | N149: =L149-M149 -> -13.19 | O149: =SUMPRODUCT(TEXT(N149-{0,5,15,25,35},"0;\0")*{0,2,3,3,7}) -> 0
A150: 历史文化与旅游学院 | B150: 刘晖龙 | C150: 20100121 | D150: 7 | E150: 6 | F150: 王城 | G150: 第二办公楼 | H150: 2 | I150: 108、208 | J150: 王城培训中心、教学法教研室 | K150: 44.64 | L150: 14.88 | M150: =15+4*D150/3+4*(E150/2)/3 -> 28.333333 | N150: =L150-M150 -> -13.453333 | O150: =SUMPRODUCT(TEXT(N150-{0,5,15,25,35},"0;\0")*{0,2,3,3,7}) -> 0
A151: 历史文化与旅游学院 | B151: 刘祥学 | C151: 19920018 | D151: 0 | E151: 3 | F151: 王城 | G151: 第二办公楼 | H151: 2 | I151: 201、204 | J151: 古代史教研室 | K151: 25.8 | L151: 3.2 | M151: =15+4*D151/3+4*(E151/2)/3 -> 17 | N151: =L151+L152-M151 -> 1 | O151: =SUMPRODUCT(TEXT(N151-{0,5,15,25,35},"0;\0")*{0,2,3,3,7}) -> 0
A152: 历史文化与旅游学院 | G152: 教二楼 | I152: 202、205 | J152: 东盟中心 | K152: 147.58 | L152: 14.8
A153: 历史文化与旅游学院 | B153: 刘小彤 | C153: 20090043 | D153: 0 | E153: 3 | F153: 王城 | G153: 第二办公楼 | H153: 1 | I153: 101、105 | J153: 景区规划与管理教研室 | K153: 22 | L153: 2.75 | M153: =15+4*D153/3+4*(E153/2)/3 -> 17 | N153: =L153+L154-M153 -> -3.85 | O153: =SUMPRODUCT(TEXT(N153-{0,5,15,25,35},"0;\0")*{0,2,3,3,7}) -> 0
A154: 历史文化与旅游学院 | G154: 教二楼 | H154: 2 | I154: 201、204 | J154: 文管基地 | K154: 124.33 | L154: 10.4
A155: 历史文化与旅游学院 | B155: 刘榕榕 | C155: 20120009 | D155: 2 | E155: 0 | F155: 王城 | G155: 第二办公楼 | H155: 2 | I155: 209、210 | J155: 世界史 | K155: 42.2 | L155: 7 | M155: =15+4*D155/3+4*(E155/2)/3 -> 17.666667 | N155: =L155-M155 -> -10.666667 | O155: =SUMPRODUCT(TEXT(N155-{0,5,15,25,35},"0;\0")*{0,2,3,3,7}) -> 0
A156: 历史文化与旅游学院 | B156: 刘超建 | C156: 20160080 | D156: 1 | E156: 7 | F156: 王城 | G156: 第二办公楼 | H156: 2 | I156: 206、207 | J156: 近现代史教研室 | K156: 24.8 | L156: 6.2 | M156: =15+4*D156/3+4*(E156/2)/3 -> 21 | N156: =L156-M156 -> -14.8 | O156: =SUMPRODUCT(TEXT(N156-{0,5,15,25,35},"0;\0")*{0,2,3,3,7}) -> 0
A157: 历史文化与旅游学院 | B157: 陆军 | C157: 20050031 | D157: 6 | E157: 3 | F157: 王城 | G157: 第二办公楼 | H157: 1 | I157: 106、108 | J157: 景区规划与管理 | K157: 39 | L157: 6.5 | M157: =15+4*D157/3+4*(E157/2)/3 -> 25 | N157: =L157-M157 -> -18.5 | O157: =SUMPRODUCT(TEXT(N157-{0,5,15,25,35},"0;\0")*{0,2,3,3,7}) -> 0
A158: 历史文化与旅游学院 | B158: 兰源红 | C158: 20020020 | D158: 2 | E158: 3 | F158: 王城 | G158: 第二办公楼 | H158: 1 | I158: 106、108 | J158: 景区规划与管理 | K158: 39 | L158: 6.5 | M158: =15+4*D158/3+4*(E158/2)/3 -> 19.666667 | N158: =L158-M158 -> -13.166667 | O158: =SUMPRODUCT(TEXT(N158-{0,5,15,25,35},"0;\0")*{0,2,3,3,7}) -> 0
A159: 历史文化与旅游学院 | B159: 农朝幸 | C159: 20100294 | D159: 5 | E159: 6 | F159: 王城 | G159: 第二办公楼 | H159: 1 | I159: 101、105 | J159: 景区规划与管理教研室 | K159: 22 | L159: 2.75 | M159: =15+4*D159/3+4*(E159/2)/3 -> 25.666667 | N159: =L159+L160-M159 -> -12.516667 | O159: =SUMPRODUCT(TEXT(N159-{0,5,15,25,35},"0;\0")*{0,2,3,3,7}) -> 0
A160: 历史文化与旅游学院 | G160: 教二楼 | H160: 2 | I160: 201、204 | J160: 文管基地 | K160: 124.33 | L160: 10.4
...
